BEGIN:VCALENDAR
PRODID:-//dvv-bw.de//dvv.Portalplattform//DE
VERSION:2.0
METHOD:PUBLISH
BEGIN:VEVENT
DTSTART:20261204T230000Z
DTEND:20261204T230000Z
DTSTAMP:20260424T054302Z
UID:523252670803-523213113451-1796425200000
SUMMARY:Weihnachtsfeier FFW Abt. Großengstingen
LOCATION:Feuerwehrhaus Großengstingen
DESCRIPTION:Weihnachtsfeier FFW Abt. Großengstingen
CLASS:PUBLIC
X-ALT-DESC;FMTTYPE=text/html:Weihnachtsfeier FFW Abt. Großengstingen
END:VEVENT
END:VCALENDAR
