BEGIN:VCALENDAR
PRODID:-//dvv-bw.de//dvv.Portalplattform//DE
VERSION:2.0
METHOD:PUBLISH
BEGIN:VEVENT
DTSTART:20261205T160000Z
DTEND:20261205T160000Z
DTSTAMP:20260424T015349Z
UID:523252670802-523252665214-1796425200000
SUMMARY:Jahresabschlussfeier
LOCATION:Bloßenberghalle Kleinengstingen
DESCRIPTION:Jahresabschlussfeier
CLASS:PUBLIC
X-ALT-DESC;FMTTYPE=text/html:Jahresabschlussfeier
END:VEVENT
END:VCALENDAR
